BEGIN:VCALENDAR
VERSION:2.0
PRODID:-//The Transformative Leader, LLC - ECPv6.15.20//NONSGML v1.0//EN
CALSCALE:GREGORIAN
METHOD:PUBLISH
X-WR-CALNAME:The Transformative Leader, LLC
X-ORIGINAL-URL:https://thetransformativeleader.com
X-WR-CALDESC:Events for The Transformative Leader, LLC
REFRESH-INTERVAL;VALUE=DURATION:PT1H
X-Robots-Tag:noindex
X-PUBLISHED-TTL:PT1H
BEGIN:VTIMEZONE
TZID:America/Los_Angeles
BEGIN:DAYLIGHT
TZOFFSETFROM:-0800
TZOFFSETTO:-0700
TZNAME:PDT
DTSTART:20250309T100000
END:DAYLIGHT
BEGIN:STANDARD
TZOFFSETFROM:-0700
TZOFFSETTO:-0800
TZNAME:PST
DTSTART:20251102T090000
END:STANDARD
BEGIN:DAYLIGHT
TZOFFSETFROM:-0800
TZOFFSETTO:-0700
TZNAME:PDT
DTSTART:20260308T100000
END:DAYLIGHT
BEGIN:STANDARD
TZOFFSETFROM:-0700
TZOFFSETTO:-0800
TZNAME:PST
DTSTART:20261101T090000
END:STANDARD
BEGIN:DAYLIGHT
TZOFFSETFROM:-0800
TZOFFSETTO:-0700
TZNAME:PDT
DTSTART:20270314T100000
END:DAYLIGHT
BEGIN:STANDARD
TZOFFSETFROM:-0700
TZOFFSETTO:-0800
TZNAME:PST
DTSTART:20271107T090000
END:STANDARD
END:VTIMEZONE
BEGIN:VEVENT
DTSTART;TZID=America/Los_Angeles:20260512T100000
DTEND;TZID=America/Los_Angeles:20260512T113000
DTSTAMP:20260423T043429
CREATED:20260330T120058Z
LAST-MODIFIED:20260331T000651Z
UID:10000025-1778580000-1778585400@thetransformativeleader.com
SUMMARY:SHIFT - Turning Stress into Strength
DESCRIPTION:An integrated resilience course for conscious leaders \nSHIFT is a 12-session experiential course designed to help leaders and entrepreneurs move from chronic stress and reactivity into clarity\, resilience\, and confident action. Blending evidence-based HeartMath® practices\, somatic awareness\, and leadership principles\, SHIFT offers practical tools you can use immediately. \nThrough guided practices\, reflection\, and real-world application\, you’ll learn how to regulate stress\, build emotional coherence\, and lead from a grounded\, heart-centered place. This course is ideal for leaders who want to strengthen their inner resilience while creating sustainable success without burnout. \nLeave feeling calmer\, clearer\, and more connected—to yourself and your leadership. \nLearn more \n\nRegistration opens February 1\, 2026
URL:https://thetransformativeleader.com/event/shift-turning-stress-into-strength-2/2026-05-12/
CATEGORIES:Business Education,Group Coaching,Wellness
ATTACH;FMTTYPE=image/png:https://thetransformativeleader.com/wp-content/uploads/SHIFT-1920-x-1080-px.png
ORGANIZER;CN="Cheri Fredrickson%2C CPC":MAILTO:cheri@thetransformativeleader.com
LOCATION:https://thetransformativeleader.com/event/shift-turning-stress-into-strength-2/2026-05-12/
END:VEVENT
END:VCALENDAR